BEGIN:VCALENDAR
PRODID:-//Calendar export
VERSION:2.0
X-WR-TIMEZONE:Etc/GMT
BEGIN:VTIMEZONE
TZID:GMT Standard Time
BEGIN:STANDARD
TZOFFSETFROM:+0000
TZOFFSETTO:+0000
END:STANDARD
END:VTIMEZONE
BEGIN:VEVENT
UID:AE41932
DTSTAMP:20260423T032600Z
SUMMARY:MPTS (Media Production & Technology Show)
CLASS:PUBLIC
DESCRIPTION:
STATUS:CONFIRMED
PRIORITY:1
DTSTART:20260513T070000Z
DTEND:20260515T065900Z
TRANSP:OPAQUE
END:VEVENT
END:VCALENDAR
